BEGIN:VCALENDAR
VERSION:2.0
PRODID:-//Parent-Child Relationship Programs - ECPv6.15.15//NONSGML v1.0//EN
CALSCALE:GREGORIAN
METHOD:PUBLISH
X-WR-CALNAME:Parent-Child Relationship Programs
X-ORIGINAL-URL:https://store.pcrprograms.org
X-WR-CALDESC:Events for Parent-Child Relationship Programs
REFRESH-INTERVAL;VALUE=DURATION:PT1H
X-Robots-Tag:noindex
X-PUBLISHED-TTL:PT1H
BEGIN:VTIMEZONE
TZID:America/Los_Angeles
BEGIN:DAYLIGHT
TZOFFSETFROM:-0800
TZOFFSETTO:-0700
TZNAME:PDT
DTSTART:20230312T100000
END:DAYLIGHT
BEGIN:STANDARD
TZOFFSETFROM:-0700
TZOFFSETTO:-0800
TZNAME:PST
DTSTART:20231105T090000
END:STANDARD
BEGIN:DAYLIGHT
TZOFFSETFROM:-0800
TZOFFSETTO:-0700
TZNAME:PDT
DTSTART:20240310T100000
END:DAYLIGHT
BEGIN:STANDARD
TZOFFSETFROM:-0700
TZOFFSETTO:-0800
TZNAME:PST
DTSTART:20241103T090000
END:STANDARD
BEGIN:DAYLIGHT
TZOFFSETFROM:-0800
TZOFFSETTO:-0700
TZNAME:PDT
DTSTART:20250309T100000
END:DAYLIGHT
BEGIN:STANDARD
TZOFFSETFROM:-0700
TZOFFSETTO:-0800
TZNAME:PST
DTSTART:20251102T090000
END:STANDARD
BEGIN:DAYLIGHT
TZOFFSETFROM:-0800
TZOFFSETTO:-0700
TZNAME:PDT
DTSTART:20260308T100000
END:DAYLIGHT
BEGIN:STANDARD
TZOFFSETFROM:-0700
TZOFFSETTO:-0800
TZNAME:PST
DTSTART:20261101T090000
END:STANDARD
END:VTIMEZONE
BEGIN:VEVENT
DTSTART;TZID=America/Los_Angeles:20250724T083000
DTEND;TZID=America/Los_Angeles:20250725T170000
DTSTAMP:20260421T032239
CREATED:20241104T172752Z
LAST-MODIFIED:20250616T205616Z
UID:10000275-1753345800-1753462800@store.pcrprograms.org
SUMMARY:Promoting First Relationships® Level One IN PERSON Workshop – July 24 & 25\, 2025
DESCRIPTION:July 24 & 25\, 2025\n8:30 am – 5 pm each day\, in-person\, Seattle\nWorkshop held near the University of Washington. \n \nThis workshop is eligible for 13 contact hours.  \nProfessionals who work with caregivers and young children (0-5) often see the need to support and guide caregivers in building nurturing relationships with children. Promoting First Relationships workshop gives professionals the knowledge\, tools\, and strategies to do so. The Promoting First Relationships evidence-based program integrates theory\, practice and intervention. \nIn this level one workshop\, participants learn a unique consultation and intervention strategy that they can integrate into their work whether in high-risk\, special needs\, child-care\, or other early childhood fields. \nIn this workshop\, you will learn . . . \n\nTheoretical foundations of social and emotional development in early childhood (birth to 3 years)\nConsultation strategies\nElements of a healthy relationship\nInfants and the development of trust and security\nToddlers and the development of self\nUnderstanding and intervening with children’s challenging behaviors\nDeveloping intervention plans and individualizing the PFR curriculum\n\nPromoting First Relationships can improve… \n\nParental sensitivity\nParental knowledge of child development\nParental confidence and competence\nChild outcomes\nChild Welfare outcomes\n\nBecause Promoting First Relationships is a positive\, strengths-based model\, caregivers are typically open to intervention and gain competence\, and thus investment\, in their caregiving. \nYour fee covers tuition\, all curriculum materials including the Promoting First Relationships manual and reproducible parent handouts. \nWhat participants are saying . . .\n \n“I loved the video examples which really helped illustrate the principles.” \n“Straightforward and doable\, lots of real life examples and opportunity to reflect in groups.” \n“I liked how the case studies cemented the concepts.” \n“I particularly liked the group discussions\, latest research information and the handouts.”
URL:https://store.pcrprograms.org/training/promoting-first-relationships-level-one-in-person-workshop-july-24-25-2025/
LOCATION:University of Washington\, Seattle\, Washington
ATTACH;FMTTYPE=image/jpeg:https://store.pcrprograms.org/wp-content/uploads/2019/02/HomePage-Hero-pic-PFRLarge.jpg
END:VEVENT
BEGIN:VEVENT
DTSTART;TZID=America/Los_Angeles:20241022T090000
DTEND;TZID=America/Los_Angeles:20241022T170000
DTSTAMP:20260421T032239
CREATED:20240520T214634Z
LAST-MODIFIED:20240909T225718Z
UID:10000259-1729587600-1729616400@store.pcrprograms.org
SUMMARY:IN PERSON Expressive Arts Psychotherapy: Engaging in the Arts as Original Health and Healing Practices in Early Relational Health
DESCRIPTION:October 22\, 2024\n9:00am – 5:00pm\nIN PERSON University of Washington\nExpressive Arts Psychotherapy\, grounded in a decolonized perspective\, honors the arts not just as clinical tools but as intrinsic healing practices of many indigenous cultures. This training workshop merges cultural wisdom in expression with therapeutic Expressive Arts Therapy techniques\, illuminating experiences that foster holistic healing and nurture parent-child relationships within family systems. Through a re-embrace of the healing arts\, identification and application of clinical EXA principles\, and experiential dialogue\, participants will grasp the essence of a culturally responsive and intermodal expressive arts approach. This experiential workshop will provide all art materials for each participant. \nObjectives\nUnderstand Expressive Arts Therapy through a decolonized lens and apply arts interventions through a culturally connected\, relevant\, and meaningful approach;\nDefine at least 3 principles of Expressive Arts Therapy;\nApply at least 5 Expressive Arts Therapy interventions to work with children and their families;\nDefine the Expressive Therapies Continuum and apply EXA interventions through the framework\nExperience and learn through the arts from a somatosensory\, perceptive\, affective and cognitive context. \nAbigail Bocanegra\, LMFT\, is a second-generation Mexican-American/Chicana\, rooted in her Nahua\, Huastec\, and Spanish heritage. As the founder of Creative Heart Therapies\, Abigail integrates her roles as a bilingual Expressive Arts Psychotherapist\, an Early Relational Mental Health Consultant\, and a fervent advocate for culturally-centered healing arts across diverse communities. She is the co-author and co-developer of the Integrative Cultural Healing Model\, a healing approach grounded in Tribal Traditional Knowledge for Indigenous families and their young children (0-7). At the Barnard Center within the University of Washington\, Abigail holds a Leadership Fellow position\, specializing in expressive arts psychotherapy for young children and providing Reflective Practice for bilingual IECMH professionals. In her private practice\, Abigail centers her services on the rejuvenation of Latine and Indigenous health and healing traditions\, partnering with families impacted by intergenerational-colonial and racial trauma. Her therapeutic stance is underpinned by the Nahuatl philosophy of In Ixtli In Yolotl\, signifying wisdom of the heart\, consciousness\, and a purposeful life journey. \n$440
URL:https://store.pcrprograms.org/training/in-person-expressive-arts-psychotherapy-engaging-in-the-arts-as-original-health-and-healing-practices-in-early-relational-health/
LOCATION:University of Washington\, Seattle\, Washington
ATTACH;FMTTYPE=image/jpeg:https://store.pcrprograms.org/wp-content/uploads/2023/10/bio-pic-AB-1-e1697505258490.jpg
END:VEVENT
BEGIN:VEVENT
DTSTART;TZID=America/Los_Angeles:20240718T080000
DTEND;TZID=America/Los_Angeles:20240719T170000
DTSTAMP:20260421T032239
CREATED:20240223T170849Z
LAST-MODIFIED:20240624T141848Z
UID:10000252-1721289600-1721408400@store.pcrprograms.org
SUMMARY:Promoting First Relationships® Level One IN PERSON Workshop – July 18 & 19\, 2024
DESCRIPTION:July 18 & 19\, 2024\n8:00 am – 5 pm each day\, in-person\, Seattle\nWorkshop held near the University of Washington. \n \nThis workshop is approved for 13 Professional CEU’s \nProfessionals who work with caregivers and young children (0-5) often see the need to support and guide caregivers in building nurturing relationships with children. Promoting First Relationships workshop gives professionals the knowledge\, tools\, and strategies to do so. The Promoting First Relationships evidence-based program integrates theory\, practice and intervention. \nIn this level one workshop\, participants learn a unique consultation and intervention strategy that they can integrate into their work whether in high-risk\, special needs\, child-care\, or other early childhood fields. \nIn this workshop\, you will learn . . . \n\nTheoretical foundations of social and emotional development in early childhood (birth to 3 years)\nConsultation strategies\nElements of a healthy relationship\nInfants and the development of trust and security\nToddlers and the development of self\nUnderstanding and intervening with children’s challenging behaviors\nDeveloping intervention plans and individualizing the PFR curriculum\n\nPromoting First Relationships can improve… \n\nParental sensitivity\nParental knowledge of child development\nParental confidence and competence\nChild outcomes\nChild Welfare outcomes\n\nBecause Promoting First Relationships is a positive\, strengths-based model\, caregivers are typically open to intervention and gain competence\, and thus investment\, in their caregiving. \nYour fee covers tuition\, all curriculum materials including the Promoting First Relationships manual and reproducible parent handouts. \nWhat participants are saying . . .\n \n“I loved the video examples which really helped illustrate the principles.” \n“Straightforward and doable\, lots of real life examples and opportunity to reflect in groups.” \n“I liked how the case studies cemented the concepts.” \n“I particularly liked the group discussions\, latest research information and the handouts.”
URL:https://store.pcrprograms.org/training/promoting-first-relationships-level-one-in-person-workshop-july-18-19-2024/
LOCATION:University of Washington\, Seattle\, Washington
ATTACH;FMTTYPE=image/jpeg:https://store.pcrprograms.org/wp-content/uploads/2019/02/HomePage-Hero-pic-PFRLarge.jpg
END:VEVENT
BEGIN:VEVENT
DTSTART;TZID=America/Los_Angeles:20240620T080000
DTEND;TZID=America/Los_Angeles:20240621T163000
DTSTAMP:20260421T032239
CREATED:20240212T181255Z
LAST-MODIFIED:20240613T164934Z
UID:10000249-1718870400-1718987400@store.pcrprograms.org
SUMMARY:Promoting Maternal Mental Health During Pregnancy IN PERSON Workshop - June 20 & 21\, 2024
DESCRIPTION:June 20 & 21\, 2024\n8:00 am – 4:30 pm each day\, in-person\, Seattle\nWorkshop held near the University of Washington. \n \nThis workshop is approved for 15 Professional CEU’s \nThis workshop addresses the importance of helping the pregnant woman achieve a healthier mental and emotional state during pregnancy in order to improve the chances that she and her child will experience a healthier relationship. Activities allow for individualized and creative approaches that capture your client’s interest. \n\nResearch has shown that a mother’s mental health and emotional state during pregnancy has an immediate and direct impact on her lifelong relationship with her infant.\nIn turn\, the health of the mother-child relationship directly impacts the child’s quality of life\, possibly throughout the lifespan.\nBy helping the pregnant woman improve her mental and emotional state during pregnancy\, we are able to increase the chances that she and her child will experience a healthier relationship.\n\nPromoting Maternal Mental Health During Pregnancy training covers issues critical to the development of the early mother-child relationship including . . . \n\nHigh-risk pregnancies\nUnresolved grief or loss\nNormal\, typical course of pregnancy\nDomestic violence\nWomen experiencing depression or other mental health disruptions\n\nYour fee covers tuition and all curriculum materials including two Promoting Maternal Mental Health During Pregnancy books\, one covering Theory and Practice and one on Activities\, and an assessment guide. \nWhat participants are saying . . .\n \n“Excellent. Fantastic. I love that I’m leaving with real\, simple interventions that I can start using tomorrow. A very practicial application to help Mom through all aspects of pregnancy.”\n \n“The presenter was good at connecting the concepts in a personal and positive way.” \n“I feel more confident in being able to help my families.”
URL:https://store.pcrprograms.org/training/promoting-maternal-mental-health-during-pregnancy-in-person-workshop-june-20-21-2024/
LOCATION:University of Washington\, Seattle\, Washington
ATTACH;FMTTYPE=image/jpeg:https://store.pcrprograms.org/wp-content/uploads/2023/03/PregnantWoman-crop.jpg
END:VEVENT
END:VCALENDAR