BEGIN:VCALENDAR
VERSION:2.0
PRODID:-//Parent-Child Relationship Programs - ECPv6.15.15//NONSGML v1.0//EN
CALSCALE:GREGORIAN
METHOD:PUBLISH
X-WR-CALNAME:Parent-Child Relationship Programs
X-ORIGINAL-URL:https://store.pcrprograms.org
X-WR-CALDESC:Events for Parent-Child Relationship Programs
REFRESH-INTERVAL;VALUE=DURATION:PT1H
X-Robots-Tag:noindex
X-PUBLISHED-TTL:PT1H
BEGIN:VTIMEZONE
TZID:America/Los_Angeles
BEGIN:DAYLIGHT
TZOFFSETFROM:-0800
TZOFFSETTO:-0700
TZNAME:PDT
DTSTART:20220313T100000
END:DAYLIGHT
BEGIN:STANDARD
TZOFFSETFROM:-0700
TZOFFSETTO:-0800
TZNAME:PST
DTSTART:20221106T090000
END:STANDARD
BEGIN:DAYLIGHT
TZOFFSETFROM:-0800
TZOFFSETTO:-0700
TZNAME:PDT
DTSTART:20230312T100000
END:DAYLIGHT
BEGIN:STANDARD
TZOFFSETFROM:-0700
TZOFFSETTO:-0800
TZNAME:PST
DTSTART:20231105T090000
END:STANDARD
BEGIN:DAYLIGHT
TZOFFSETFROM:-0800
TZOFFSETTO:-0700
TZNAME:PDT
DTSTART:20240310T100000
END:DAYLIGHT
BEGIN:STANDARD
TZOFFSETFROM:-0700
TZOFFSETTO:-0800
TZNAME:PST
DTSTART:20241103T090000
END:STANDARD
BEGIN:DAYLIGHT
TZOFFSETFROM:-0800
TZOFFSETTO:-0700
TZNAME:PDT
DTSTART:20250309T100000
END:DAYLIGHT
BEGIN:STANDARD
TZOFFSETFROM:-0700
TZOFFSETTO:-0800
TZNAME:PST
DTSTART:20251102T090000
END:STANDARD
END:VTIMEZONE
BEGIN:VEVENT
DTSTART;TZID=America/Los_Angeles:20241103T090000
DTEND;TZID=America/Los_Angeles:20241110T163000
DTSTAMP:20260421T014242
CREATED:20241024T203342Z
LAST-MODIFIED:20241024T203342Z
UID:10000274-1730624400-1731256200@store.pcrprograms.org
SUMMARY:NCAST PCI Feeding Scale Certification and Recertification VIRTUAL Workshops - November 2024
DESCRIPTION:Has it been 1-3 years since your original Feeding Scale certification or last recertification? Are you interested in attending a certification/recertification workshop on weekend days? \nAlissa Copeland will be offering a virtual Feeding Scales Certification on Sunday November 3rd\, Saturday November 9th\, and Sunday November 10th\, 2024. All three dates will be delivered over Zoom and will run 9a-4:30p PST. Certification pricing is $500. \nIf you need Feeding Scale Recertification\, you can register for Sunday\, November 10 only. Recertification pricing is $250. \nParticipants will need to purchase their own learner materials from the PCRP Store. Please email alissacopeland417@gmail.com for additional details and registration information.
URL:https://store.pcrprograms.org/training/ncast-pci-feeding-scale-certification-and-recertification-virtual-workshops-november-2024/
END:VEVENT
BEGIN:VEVENT
DTSTART;TZID=America/Los_Angeles:20230923T083000
DTEND;TZID=America/Los_Angeles:20230923T170000
DTSTAMP:20260421T014242
CREATED:20230802T173357Z
LAST-MODIFIED:20230802T173357Z
UID:10000228-1695457800-1695488400@store.pcrprograms.org
SUMMARY:NCAST PCI Feeding and Teaching Scale Recertification VIRTUAL Workshops - Sept 2023
DESCRIPTION:Alissa Copeland will be hosting virtual PCI Feeding Scales and Teaching Scales Recertification Workshops in September 2023. If it has been 12-36 months since your original certification or last recertification\, consider refreshing your skills and maintaining your reliability for use of the PCI Feeding and Teaching Scales with a recertification workshop. Both workshops will provide a review of the scales\, an opportunity to practice scoring a dyad\, and completion of the five reliability videos for recertification. Both workshops will meet on Zoom and will include eight hours of instruction/reliability recertification and 30-minute mid-day break. \n·  Feeding Scales Recertification Workshop – 8:30a-5p PDT Saturday September 23\, 2023 $225.00 \n·  Teaching Scales Recertification Workshop – 8:30a-5p PDT Saturday September 30\, 2023 $225.00 \nThe registration deadline for the Feeding Scales Recertification is Friday September 15\, 2023 and the registration deadline for the Teaching Scales Recertification is Friday September 22\, 2023. The fee for each workshop is $225.00 per person\, with the opportunity to negotiate a group registration rate. Workshop payments can be made via Paypal\, CashApp\, Venmo\, or Zelle. Please email alissacopeland417@gmail.com with any questions\, and for additional details about group rates\, payment\, or registration.
URL:https://store.pcrprograms.org/training/ncast-pci-feeding-and-teaching-scale-recertification-virtual-workshops-sept-2023/
LOCATION:Zoom
END:VEVENT
END:VCALENDAR